BEGIN:VCALENDAR
VERSION:2.0
PRODID:SchoolNow
CALSCALE:GREGORIAN
BEGIN:VEVENT
UID:4a732906-c832-11e9-86ce-0a15685e5452
DTSTAMP:20190826T184953Z
SUMMARY:5th Gr Field Trip
LOCATION:The Field Museum\, 1400 S Lake Shore Dr\, Chicago\, IL 60605\, USA
URL;VALUE=URI:https://www.op97.org/beye/calendar/2073508/5th-gr-field-trip
DTSTART:20190919T141500Z
DTEND:20190919T191500Z
END:VEVENT
END:VCALENDAR
