BEGIN:VCALENDAR
VERSION:2.0
PRODID:SchoolNow
CALSCALE:GREGORIAN
BEGIN:VEVENT
UID:34d0ba9c-ce94-11e9-9404-0a652eab7aee
DTSTAMP:20190903T214554Z
SUMMARY:4th & 5th Gr Field Trip
LOCATION:Concordia University Chicago 7400 Augusta St\, River Forest\, IL 6
 0305\, USA
URL;VALUE=URI:https://www.op97.org/beye/calendar/2080774/4th-5th-gr-field-t
 rip
DTSTART:20191114T180000Z
DTEND:20191114T200000Z
END:VEVENT
END:VCALENDAR
