BEGIN:VCALENDAR
VERSION:2.0
PRODID:SchoolNow
CALSCALE:GREGORIAN
BEGIN:VEVENT
UID:c8878a62-ce95-11e9-88bd-0a652eab7aee
DTSTAMP:20190903T215712Z
SUMMARY:5th Gr Field Trip
LOCATION:Illinois Holocaust Museum & Education Center\, 9603 Woods Dr\, Sko
 kie\, IL 60077\, USA
URL;VALUE=URI:https://www.op97.org/beye/calendar/2080790/5th-gr-field-trip
DTSTART:20200123T150000Z
DTEND:20200123T191500Z
END:VEVENT
END:VCALENDAR
