BEGIN:VCALENDAR
VERSION:2.0
PRODID:SchoolNow
CALSCALE:GREGORIAN
BEGIN:VEVENT
UID:a75a2eda-d638-11e9-92ed-0ab00df21fb0
DTSTAMP:20190913T151042Z
SUMMARY:4th Grade FT
LOCATION:The Field Museum 1400 S Lake Shore Dr\, Chicago\, IL 60605\, USA
URL;VALUE=URI:https://www.op97.org/beye/calendar/2093388/4th-grade-ft
DTSTART:20191011T060900Z
DTEND:20191011T191500Z
END:VEVENT
END:VCALENDAR
