BEGIN:VCALENDAR
VERSION:2.0
PRODID:SchoolNow
CALSCALE:GREGORIAN
BEGIN:VEVENT
UID:59420e9a-d8ca-11e9-af1c-12a046acdeea
DTSTAMP:20190916T213840Z
SUMMARY:2nd Gr Field Trip (2L & 2M/F)
LOCATION:Oak Park River Forest Museum
URL;VALUE=URI:https://www.op97.org/beye/calendar/2096224/2nd-gr-field-trip-
 2l-2m-f
DTSTART:20190926T131500Z
DTEND:20190926T171500Z
END:VEVENT
END:VCALENDAR
