BEGIN:VCALENDAR
VERSION:2.0
PRODID:SchoolNow
CALSCALE:GREGORIAN
BEGIN:VEVENT
UID:90ee0e70-d8ca-11e9-ad57-12a046acdeea
DTSTAMP:20190916T214013Z
SUMMARY:2nd Gr Field Trip (2R)
LOCATION:Oak Park River Forest Museum
URL;VALUE=URI:https://www.op97.org/beye/calendar/2096225/2nd-gr-field-trip-
 2r
DTSTART:20190928T014500Z
DTEND:20190928T031500Z
END:VEVENT
END:VCALENDAR
