BEGIN:VCALENDAR
VERSION:2.0
PRODID:SchoolNow
CALSCALE:GREGORIAN
BEGIN:VEVENT
UID:8928a824-d99e-11e9-a477-1201a428de28
DTSTAMP:20190917T225734Z
SUMMARY:Principal Coffee**
URL;VALUE=URI:https://www.op97.org/beye/calendar/2097288/principal-coffee
DTSTART:20190920T130000Z
DTEND:20190920T140000Z
END:VEVENT
END:VCALENDAR
