BEGIN:VCALENDAR
VERSION:2.0
PRODID:SchoolNow
CALSCALE:GREGORIAN
BEGIN:VEVENT
UID:90e1ad42-e51d-11e9-91da-0ab1b2f1fca2
DTSTAMP:20191002T140435Z
SUMMARY:Indigenous Peoples Day Activities
URL;VALUE=URI:https://www.op97.org/beye/calendar/2111515/indigenous-peoples
 -day-activities
DTSTART:20191014T130000Z
DTEND:20191014T200000Z
END:VEVENT
END:VCALENDAR
