BEGIN:VCALENDAR
VERSION:2.0
PRODID:SchoolNow
CALSCALE:GREGORIAN
BEGIN:VEVENT
UID:a968b9ce-e52b-11e9-8559-125fbf1a349c
DTSTAMP:20191002T183021Z
SUMMARY:Halloween Parade
URL;VALUE=URI:https://www.op97.org/beye/calendar/2111528/halloween-parade
DTSTART:20191031T173000Z
DTEND:20191031T183000Z
END:VEVENT
END:VCALENDAR
