BEGIN:VCALENDAR
VERSION:2.0
PRODID:SchoolNow
CALSCALE:GREGORIAN
BEGIN:VEVENT
UID:f1320944-e52c-11e9-864d-0aa7c6aaf818
DTSTAMP:20191002T155439Z
SUMMARY:Beye School Reading Olympics
LOCATION:Beye School Auditorium
URL;VALUE=URI:https://www.op97.org/beye/calendar/2111530/beye-school-readin
 g-olympics
DTSTART:20191204T151500Z
DTEND:20191204T161500Z
END:VEVENT
END:VCALENDAR
