BEGIN:VCALENDAR
VERSION:2.0
PRODID:SchoolNow
CALSCALE:GREGORIAN
BEGIN:VEVENT
UID:10b8dee6-e52d-11e9-a3ec-0aa7c6aaf818
DTSTAMP:20191002T155532Z
SUMMARY:Principal Coffee
LOCATION:Beye School Commons
URL;VALUE=URI:https://www.op97.org/beye/calendar/2111531/principal-coffee
DTSTART:20191213T140000Z
DTEND:20191213T150000Z
END:VEVENT
END:VCALENDAR
