BEGIN:VCALENDAR
VERSION:2.0
PRODID:SchoolNow
CALSCALE:GREGORIAN
BEGIN:VEVENT
UID:4b081954-e52d-11e9-a579-0aa7c6aaf818
DTSTAMP:20191002T155752Z
SUMMARY:Winter Music Festival
LOCATION:Beye School Auditorium
URL;VALUE=URI:https://www.op97.org/beye/calendar/2111532/winter-music-festi
 val
DTSTART:20191220T003000Z
DTEND:20191220T020000Z
END:VEVENT
END:VCALENDAR
