BEGIN:VCALENDAR
VERSION:2.0
PRODID:SchoolNow
CALSCALE:GREGORIAN
BEGIN:VEVENT
UID:b7006a6c-e52d-11e9-98f3-0aa7c6aaf818
DTSTAMP:20191002T160011Z
SUMMARY:Pancake Breakfast
LOCATION:Beye School Commons
URL;VALUE=URI:https://www.op97.org/beye/calendar/2111533/pancake-breakfast
DTSTART:20200125T140000Z
DTEND:20200125T170000Z
END:VEVENT
END:VCALENDAR
