BEGIN:VCALENDAR
VERSION:2.0
PRODID:SchoolNow
CALSCALE:GREGORIAN
BEGIN:VEVENT
UID:f20fb98c-e52d-11e9-a7ec-0aa7c6aaf818
DTSTAMP:20191002T160150Z
SUMMARY:Talent Show Performance
LOCATION:Beye School Auditorium
URL;VALUE=URI:https://www.op97.org/beye/calendar/2111534/talent-show-perfor
 mance
DTSTART:20200207T003000Z
DTEND:20200207T023000Z
END:VEVENT
END:VCALENDAR
