BEGIN:VCALENDAR
VERSION:2.0
PRODID:SchoolNow
CALSCALE:GREGORIAN
BEGIN:VEVENT
UID:07f29c06-e52e-11e9-bed3-0aa7c6aaf818
DTSTAMP:20191002T160227Z
SUMMARY:Talent Show Performance
LOCATION:Beye School Auditorium
URL;VALUE=URI:https://www.op97.org/beye/calendar/2111535/talent-show-perfor
 mance
DTSTART:20200208T003000Z
DTEND:20200208T023000Z
END:VEVENT
END:VCALENDAR
