BEGIN:VCALENDAR
VERSION:2.0
PRODID:SchoolNow
CALSCALE:GREGORIAN
BEGIN:VEVENT
UID:2fb218fc-e52e-11e9-94c5-0aa7c6aaf818
DTSTAMP:20191002T160334Z
SUMMARY:Principal Coffee
LOCATION:Beye School Commons
URL;VALUE=URI:https://www.op97.org/beye/calendar/2111536/principal-coffee
DTSTART:20200221T140000Z
DTEND:20200221T150000Z
END:VEVENT
END:VCALENDAR
