BEGIN:VCALENDAR
VERSION:2.0
PRODID:SchoolNow
CALSCALE:GREGORIAN
BEGIN:VEVENT
UID:941e8832-e544-11e9-9144-0ab1b2f1fca2
DTSTAMP:20191002T184351Z
SUMMARY:Spring Reading Olympics
LOCATION:Beye School Auditorium
URL;VALUE=URI:https://www.op97.org/beye/calendar/2111782/spring-reading-oly
 mpics
DTSTART:20200311T141500Z
DTEND:20200311T151500Z
END:VEVENT
END:VCALENDAR
