BEGIN:VCALENDAR
VERSION:2.0
PRODID:SchoolNow
CALSCALE:GREGORIAN
BEGIN:VEVENT
UID:be0d26c6-e544-11e9-a4bd-0ab1b2f1fca2
DTSTAMP:20200122T233416Z
SUMMARY:PTO Meeting
LOCATION:Beye School Commons
URL;VALUE=URI:https://www.op97.org/beye/calendar/2111783/pto-meeting
DTSTART:20200307T150000Z
DTEND:20200307T170000Z
END:VEVENT
END:VCALENDAR
