BEGIN:VCALENDAR
VERSION:2.0
PRODID:SchoolNow
CALSCALE:GREGORIAN
BEGIN:VEVENT
UID:bd80f366-e546-11e9-ad09-0a688cafc902
DTSTAMP:20191002T185920Z
SUMMARY:Drama Club Performance
LOCATION:Beye School Auditorium
URL;VALUE=URI:https://www.op97.org/beye/calendar/2111792/drama-club-perform
 ance
DTSTART:20200312T230000Z
DTEND:20200313T010000Z
END:VEVENT
END:VCALENDAR
