BEGIN:VCALENDAR
VERSION:2.0
PRODID:SchoolNow
CALSCALE:GREGORIAN
BEGIN:VEVENT
UID:ff2d198e-e546-11e9-aec7-0a688cafc902
DTSTAMP:20191002T190110Z
SUMMARY:Drama Club Performance
LOCATION:Beye School Auditorium
URL;VALUE=URI:https://www.op97.org/beye/calendar/2111813/drama-club-perform
 ance
DTSTART:20200313T230000Z
DTEND:20200314T010000Z
END:VEVENT
END:VCALENDAR
