BEGIN:VCALENDAR
VERSION:2.0
PRODID:SchoolNow
CALSCALE:GREGORIAN
BEGIN:VEVENT
UID:b5bf3948-e547-11e9-9472-0a688cafc902
DTSTAMP:20191002T190616Z
SUMMARY:Elementary Instrumental Music Fest
LOCATION:Oak Park River Forest High School
URL;VALUE=URI:https://www.op97.org/beye/calendar/2111911/elementary-instrum
 ental-music-fest
DTSTART:20200401T233000Z
DTEND:20200402T010000Z
END:VEVENT
END:VCALENDAR
