BEGIN:VCALENDAR
VERSION:2.0
PRODID:SchoolNow
CALSCALE:GREGORIAN
BEGIN:VEVENT
UID:ddd48474-e547-11e9-bb52-0a688cafc902
DTSTAMP:20200501T140632Z
SUMMARY:Fun Fair ~ Cancelled
URL;VALUE=URI:https://www.op97.org/beye/calendar/2111953/fun-fair
DTSTART:20200404T160000Z
DTEND:20200404T200000Z
END:VEVENT
END:VCALENDAR
