BEGIN:VCALENDAR
VERSION:2.0
PRODID:SchoolNow
CALSCALE:GREGORIAN
BEGIN:VEVENT
UID:cfaf3990-e54f-11e9-aad0-123f4f7f9fe8
DTSTAMP:20191002T200416Z
SUMMARY:Principal Coffee
LOCATION:Beye School Commons
URL;VALUE=URI:https://www.op97.org/beye/calendar/2112435/principal-coffee
DTSTART:20200417T130000Z
DTEND:20200417T140000Z
END:VEVENT
END:VCALENDAR
