BEGIN:VCALENDAR
VERSION:2.0
PRODID:SchoolNow
CALSCALE:GREGORIAN
BEGIN:VEVENT
UID:3a4454a2-e550-11e9-a677-123f4f7f9fe8
DTSTAMP:20191002T200714Z
SUMMARY:PTO Meeting
LOCATION:Beye School Commons
URL;VALUE=URI:https://www.op97.org/beye/calendar/2112456/pto-meeting
DTSTART:20200509T140000Z
DTEND:20200509T160000Z
END:VEVENT
END:VCALENDAR
