BEGIN:VCALENDAR
VERSION:2.0
PRODID:SchoolNow
CALSCALE:GREGORIAN
BEGIN:VEVENT
UID:a9e1e5d6-e550-11e9-a5fc-123f4f7f9fe8
DTSTAMP:20191002T201022Z
SUMMARY:Spring Sing (Grades 2 & 4)
LOCATION:Beye School Auditorium
URL;VALUE=URI:https://www.op97.org/beye/calendar/2112457/spring-sing-grades
 -2-4
DTSTART:20200512T230000Z
DTEND:20200513T000000Z
END:VEVENT
END:VCALENDAR
