BEGIN:VCALENDAR
VERSION:2.0
PRODID:SchoolNow
CALSCALE:GREGORIAN
BEGIN:VEVENT
UID:d1fab354-e550-11e9-a1f4-123f4f7f9fe8
DTSTAMP:20191002T201129Z
SUMMARY:Spring Sing (Kindergarten)
LOCATION:Beye School Auditorium
URL;VALUE=URI:https://www.op97.org/beye/calendar/2112458/spring-sing-kinder
 garten
DTSTART:20200513T230000Z
DTEND:20200513T233000Z
END:VEVENT
END:VCALENDAR
