BEGIN:VCALENDAR
VERSION:2.0
PRODID:SchoolNow
CALSCALE:GREGORIAN
BEGIN:VEVENT
UID:ff6efd7c-e550-11e9-963a-123f4f7f9fe8
DTSTAMP:20191002T201245Z
SUMMARY:Spring Sings (Grades 1 & 3)
LOCATION:Beye School Auditorium
URL;VALUE=URI:https://www.op97.org/beye/calendar/2112459/spring-sings-grade
 s-1-3
DTSTART:20200514T230000Z
DTEND:20200515T000000Z
END:VEVENT
END:VCALENDAR
