BEGIN:VCALENDAR
VERSION:2.0
PRODID:SchoolNow
CALSCALE:GREGORIAN
BEGIN:VEVENT
UID:2e945098-e551-11e9-8b5f-123f4f7f9fe8
DTSTAMP:20191002T201404Z
SUMMARY:Tribute to Excellence
LOCATION:Beye School Auditorium
URL;VALUE=URI:https://www.op97.org/beye/calendar/2112460/tribute-to-excelle
 nce
DTSTART:20200527T131500Z
DTEND:20200527T141500Z
END:VEVENT
END:VCALENDAR
