BEGIN:VCALENDAR
VERSION:2.0
PRODID:SchoolNow
CALSCALE:GREGORIAN
BEGIN:VEVENT
UID:5bb3f18c-e551-11e9-8fe2-123f4f7f9fe8
DTSTAMP:20200501T004812Z
SUMMARY:Olympic Day (Cancelled)
URL;VALUE=URI:https://www.op97.org/beye/calendar/2112461/olympic-day
DTSTART:20200529T130000Z
DTEND:20200529T200000Z
END:VEVENT
END:VCALENDAR
