BEGIN:VCALENDAR
VERSION:2.0
PRODID:SchoolNow
CALSCALE:GREGORIAN
BEGIN:VEVENT
UID:830b12b0-e551-11e9-85b9-123f4f7f9fe8
DTSTAMP:20200501T005035Z
SUMMARY:5th Grade Event & Celebration
LOCATION:Beye School Auditorium
URL;VALUE=URI:https://www.op97.org/beye/calendar/2112462/5th-grade-event-ce
 lebration
DTSTART:20200603T230000Z
DTEND:20200604T010000Z
END:VEVENT
END:VCALENDAR
