BEGIN:VCALENDAR
VERSION:2.0
PRODID:SchoolNow
CALSCALE:GREGORIAN
BEGIN:VEVENT
UID:acbd68ec-e551-11e9-9ff7-123f4f7f9fe8
DTSTAMP:20191212T201859Z
SUMMARY:End of Year Picnic
URL;VALUE=URI:https://www.op97.org/beye/calendar/2112463/end-of-year-picnic
DTSTART:20200604T220000Z
DTEND:20200605T010000Z
END:VEVENT
END:VCALENDAR
