BEGIN:VCALENDAR
VERSION:2.0
PRODID:SchoolNow
CALSCALE:GREGORIAN
BEGIN:VEVENT
UID:926951c2-e556-11e9-902f-123f4f7f9fe8
DTSTAMP:20191002T205239Z
SUMMARY:Choral Festival @ OPRF High School
LOCATION:OPRF High School
URL;VALUE=URI:https://www.op97.org/beye/calendar/2112514/choral-festival-op
 rf-high-school
DTSTART:20200407T000000Z
DTEND:20200407T013000Z
END:VEVENT
END:VCALENDAR
