BEGIN:VCALENDAR
VERSION:2.0
PRODID:SchoolNow
CALSCALE:GREGORIAN
BEGIN:VEVENT
UID:c8e62902-e919-11e9-a2ae-129719e286e2
DTSTAMP:20191007T154848Z
SUMMARY:4th Grade FT
LOCATION:DePaul University - Merle Reskin Theatre\, 60 E Balbo Dr\, Chicago
 \, IL 60604\, USA
URL;VALUE=URI:https://www.op97.org/beye/calendar/2115962/4th-grade-ft
DTSTART:20200116T150000Z
DTEND:20200116T180000Z
END:VEVENT
END:VCALENDAR
