BEGIN:VCALENDAR
VERSION:2.0
PRODID:SchoolNow
CALSCALE:GREGORIAN
BEGIN:VEVENT
UID:f0b29848-ee92-11e9-8c70-0a864001bf32
DTSTAMP:20191014T145728Z
SUMMARY:1st Gr Field Trip
LOCATION:Stahl Family Theatre 5900 W Belmont Ave\, Chicago\, IL 60634\, USA
URL;VALUE=URI:https://www.op97.org/beye/calendar/2120275/1st-gr-field-trip
DTSTART:20191112T151500Z
DTEND:20191113T181500Z
END:VEVENT
END:VCALENDAR
