BEGIN:VCALENDAR
VERSION:2.0
PRODID:SchoolNow
CALSCALE:GREGORIAN
BEGIN:VEVENT
UID:eeebedd4-f054-11e9-9fba-12606da399aa
DTSTAMP:20191016T203838Z
SUMMARY:Kindergarten Field Trip
LOCATION:The Morton Arboretum 4100 IL-53\, Lisle\, IL 60532\, USA
URL;VALUE=URI:https://www.op97.org/beye/calendar/2122168/kindergarten-field
 -trip
DTSTART:20191105T150000Z
DTEND:20191105T201500Z
END:VEVENT
END:VCALENDAR
