BEGIN:VCALENDAR
VERSION:2.0
PRODID:SchoolNow
CALSCALE:GREGORIAN
BEGIN:VEVENT
UID:e80bbcb6-f1b6-11e9-bea9-120db8b6829a
DTSTAMP:20191018T145229Z
SUMMARY:Dental Clinic
LOCATION:Beye School Commons
URL;VALUE=URI:https://www.op97.org/beye/calendar/2123795/dental-clinic
DTSTART:20200226T140000Z
DTEND:20200226T203000Z
END:VEVENT
END:VCALENDAR
