BEGIN:VCALENDAR
VERSION:2.0
PRODID:SchoolNow
CALSCALE:GREGORIAN
BEGIN:VEVENT
UID:4b14ecd8-f1b7-11e9-b7cc-120db8b6829a
DTSTAMP:20191018T145515Z
SUMMARY:Dental Clinic
LOCATION:Beye School Commons
URL;VALUE=URI:https://www.op97.org/beye/calendar/2123799/dental-clinic
DTSTART:20200227T140000Z
DTEND:20200227T210000Z
END:VEVENT
END:VCALENDAR
