BEGIN:VCALENDAR
VERSION:2.0
PRODID:SchoolNow
CALSCALE:GREGORIAN
BEGIN:VEVENT
UID:b6e24dce-f5dc-11e9-b888-0a8702fe7eed
DTSTAMP:20191023T213312Z
SUMMARY:K Field Trip
LOCATION:Stahl Family Theatre\, 5900 W Belmont Ave\, Chicago\, IL 60634\, U
 SA
URL;VALUE=URI:https://www.op97.org/beye/calendar/2130556/k-field-trip
DTSTART:20200124T153000Z
DTEND:20200124T180000Z
END:VEVENT
END:VCALENDAR
