BEGIN:VCALENDAR
VERSION:2.0
PRODID:SchoolNow
CALSCALE:GREGORIAN
BEGIN:VEVENT
UID:49ac5b66-f75b-11e9-9c5d-0aa63ffb69db
DTSTAMP:20191025T191146Z
SUMMARY:Free Gender and Identity Workshop for District 97 Families
LOCATION:Oak Park Public Library\, 834 Lake St.
URL;VALUE=URI:https://www.op97.org/beye/calendar/2132011/free-gender-and-id
 entity-workshop-for-district-97-families
DTSTART:20191030T230000Z
DTEND:20191031T010000Z
END:VEVENT
END:VCALENDAR
