BEGIN:VCALENDAR
VERSION:2.0
PRODID:SchoolNow
CALSCALE:GREGORIAN
BEGIN:VEVENT
UID:4fdf16a8-017a-11ea-8744-0ab7f314cd63
DTSTAMP:20191107T161902Z
SUMMARY:4th Gr Field Trip
LOCATION:Frank Lloyd Wright Home & Studio\, 951 Chicago Ave\, Oak Park\, IL
   60302
URL;VALUE=URI:https://www.op97.org/beye/calendar/2141077/4th-gr-field-trip
DTSTART:20200408T133000Z
DTEND:20200408T150000Z
END:VEVENT
END:VCALENDAR
