BEGIN:VCALENDAR
VERSION:2.0
PRODID:SchoolNow
CALSCALE:GREGORIAN
BEGIN:VEVENT
UID:e62b8e14-017c-11ea-a0de-0ab7f314cd63
DTSTAMP:20191107T163733Z
SUMMARY:5th Grade Field Trip
LOCATION:DuSable Museum of African American History 740 E 56th Pl\, Chicago
 \, IL 60637\, USA
URL;VALUE=URI:https://www.op97.org/beye/calendar/2141078/5th-grade-field-tr
 ip
DTSTART:20200210T150000Z
DTEND:20200211T184500Z
END:VEVENT
END:VCALENDAR
