BEGIN:VCALENDAR
VERSION:2.0
PRODID:SchoolNow
CALSCALE:GREGORIAN
BEGIN:VEVENT
UID:c3f3c768-0243-11ea-b0d1-0a01e8ae18db
DTSTAMP:20191108T162106Z
SUMMARY:3rd Gr Field Trip
LOCATION:Museum of Science and Industry\, Chicago 5700 S Lake Shore Dr\, Ch
 icago\, IL 60637\, USA
URL;VALUE=URI:https://www.op97.org/beye/calendar/2141871/3rd-gr-field-trip
DTSTART:20191203T150000Z
DTEND:20191203T200000Z
END:VEVENT
END:VCALENDAR
