BEGIN:VCALENDAR
VERSION:2.0
PRODID:SchoolNow
CALSCALE:GREGORIAN
BEGIN:VEVENT
UID:c2e1bc98-1c26-11ea-9b64-0abc24116407
DTSTAMP:20191211T145859Z
SUMMARY:2nd Gr Gield Trip
LOCATION:The Field Museum\, 1400 S Lake Shore Dr\, Chicago\, IL 60605\, USA
URL;VALUE=URI:https://www.op97.org/beye/calendar/2158426/2nd-gr-gield-trip
DTSTART:20200204T150000Z
DTEND:20200204T194500Z
END:VEVENT
END:VCALENDAR
