BEGIN:VCALENDAR
VERSION:2.0
PRODID:SchoolNow
CALSCALE:GREGORIAN
BEGIN:VEVENT
UID:16f3d71e-1de7-11ea-9b8e-0a7e13dd5783
DTSTAMP:20191213T202814Z
SUMMARY:3rd Gr Field Trip
LOCATION:The Art Institute of Chicago\, 111 S Michigan Ave\, Chicago\, IL 6
 0603\, USA
URL;VALUE=URI:https://www.op97.org/beye/calendar/2159963/3rd-gr-field-trip
DTSTART:20200320T140000Z
DTEND:20200320T190000Z
END:VEVENT
END:VCALENDAR
