BEGIN:VCALENDAR
VERSION:2.0
PRODID:SchoolNow
CALSCALE:GREGORIAN
BEGIN:VEVENT
UID:adcbf206-2270-11ea-b35d-12d39be070a5
DTSTAMP:20191219T150313Z
SUMMARY:4th Gr Field Trip
LOCATION:DuSable Museum of African American History 740 E 56th Pl\, Chicago
 \, IL 60637\, USA
URL;VALUE=URI:https://www.op97.org/beye/calendar/2163589/4th-gr-field-trip
DTSTART:20200303T160000Z
DTEND:20200303T200000Z
END:VEVENT
END:VCALENDAR
