BEGIN:VCALENDAR
VERSION:2.0
PRODID:SchoolNow
CALSCALE:GREGORIAN
BEGIN:VEVENT
UID:b5f281ba-2271-11ea-a930-12d39be070a5
DTSTAMP:20200107T164152Z
SUMMARY:4th Gr Field Trip
LOCATION:Facets\, 1517 W Fullerton Ave\, Chicago\, IL 60614\, USA
URL;VALUE=URI:https://www.op97.org/beye/calendar/2163605/4th-gr-field-trip
DTSTART:20200218T164500Z
DTEND:20200218T200000Z
END:VEVENT
END:VCALENDAR
