BEGIN:VCALENDAR
VERSION:2.0
PRODID:SchoolNow
CALSCALE:GREGORIAN
BEGIN:VEVENT
UID:39e098d8-36e8-11ea-95af-12b5c9777953
DTSTAMP:20200114T160921Z
SUMMARY:5th Grade Field Trip
LOCATION:Gwendolyn Brooks Middle School 325 S Kenilworth Ave\, Oak Park\, I
 L 60302\, USA
URL;VALUE=URI:https://www.op97.org/beye/calendar/2179780/5th-grade-field-tr
 ip
DTSTART:20200131T150000Z
DTEND:20200131T164500Z
END:VEVENT
END:VCALENDAR
