BEGIN:VCALENDAR
VERSION:2.0
PRODID:SchoolNow
CALSCALE:GREGORIAN
BEGIN:VEVENT
UID:890cc88a-3d70-11ea-88a6-0a8c63b2f8bb
DTSTAMP:20200122T234013Z
SUMMARY:3 on 3 Basketball Tournament
LOCATION:Beye School Gym
URL;VALUE=URI:https://www.op97.org/beye/calendar/2187815/3-on-3-basketball-
 tournament
DTSTART:20200229T150000Z
DTEND:20200229T180000Z
END:VEVENT
END:VCALENDAR
