BEGIN:VCALENDAR
VERSION:2.0
PRODID:SchoolNow
CALSCALE:GREGORIAN
BEGIN:VEVENT
UID:b9f17d16-4472-11ea-9788-1218aee8ddc9
DTSTAMP:20200131T214332Z
SUMMARY:Kindergarten Registration for the 2020-2021 School Year
URL;VALUE=URI:https://www.op97.org/beye/calendar/2193682/kindergarten-regis
 tration-for-the-2020-2021-school-year
DTSTART:20200225T220000Z
DTEND:20200226T020000Z
END:VEVENT
END:VCALENDAR
