BEGIN:VCALENDAR
VERSION:2.0
PRODID:SchoolNow
CALSCALE:GREGORIAN
BEGIN:VEVENT
UID:a54c61d6-5e3b-11ea-b441-0a8512f3d101
DTSTAMP:20200427T151132Z
SUMMARY:POSTPONED: Kindergarten Open House at All Elementary Schools
URL;VALUE=URI:https://www.op97.org/beye/calendar/2213327/kindergarten-open-
 house-at-all-elementary-schools
DTSTART:20200506T200000Z
DTEND:20200506T210000Z
END:VEVENT
END:VCALENDAR
